BEGIN:VCALENDAR
VERSION:2.0
PRODID:-//Industry Hub - ECPv5.10.1//NONSGML v1.0//EN
CALSCALE:GREGORIAN
METHOD:PUBLISH
X-WR-CALNAME:Industry Hub
X-ORIGINAL-URL:https://industry-hub.de
X-WR-CALDESC:Events for Industry Hub
BEGIN:VTIMEZONE
TZID:Europe/Berlin
BEGIN:DAYLIGHT
TZOFFSETFROM:+0100
TZOFFSETTO:+0200
TZNAME:CEST
DTSTART:20220327T010000
END:DAYLIGHT
BEGIN:STANDARD
TZOFFSETFROM:+0200
TZOFFSETTO:+0100
TZNAME:CET
DTSTART:20221030T010000
END:STANDARD
END:VTIMEZONE
BEGIN:VEVENT
DTSTART;TZID=Europe/Berlin:20220621T090000
DTEND;TZID=Europe/Berlin:20220621T103000
DTSTAMP:20260422T135845
CREATED:20220608T092110Z
LAST-MODIFIED:20220608T112309Z
UID:2153-1655802000-1655807400@industry-hub.de
SUMMARY:2. Unternehmertreff Ernährung
DESCRIPTION:Einladung zum 2. Unternehmertreff Ernährung am 21.6. in Neuss \nDer „Unternehmertreff Ernährung“ der Wirtschaftsförderung Rhein-Kreis Neuss geht in die zweite Runde! Die Auswirkungen von Pandemie und dem Krieg in der Ukraine schaffen für Sie und alle Unternehmen auf den verschiedenen Stufen der Land- und Ernährungswirtschaft noch nie dagewesene Herausforderungen. Daher planen wir diesen Monat keinen weiteren inhaltlichen Impuls. Stattdessen wollen wir unser Netzwerkformat nutzen\, um einen Rahmen zu schaffen\, in dem Sie sich mit anderen Unternehmern auch aus anderen Stufen der Wertschöpfungskette austauschen können. Was für Unterstützungsbedarfe gibt es? Wie können wir in der Region gemeinsam Lösungen entwickeln? Lassen Sie uns das gemeinsam eruieren! \nDer zweite Unternehmertreff Ernährung findet statt am 21. Juni 2022 von 9.00 -10.30 Uhr im Marktcafé Neuss\, Markt 32\, 41460 Neuss. Dort haben wir exklusiv den 1. Stock reserviert für einen ungestörten Austausch. \nAufgrund der begrenzten Kapazität\, ist eine Anmeldung unter (https://www.eventbrite.com/e/2-unternehmertreff-ernahrung-tickets-360363074657?aff=ebdssbdestsearch&keep_tld=1) bis zum 20. Juni notwendig. \nAußerdem weisen wir daraufhin\, dass der Einlass nur unter Beachtung der 3G-Regelung möglich ist. \nWir freuen uns auf Sie!
URL:https://industry-hub.de/veranstaltung/2153/
LOCATION:marktcafé Neuss  Markt 32  41460 Neuss\, Markt 32\, Neuss\, Deutschland
END:VEVENT
END:VCALENDAR